BEGIN:VCALENDAR
VERSION:2.0
PRODID:-// - ECPv6.15.20//NONSGML v1.0//EN
CALSCALE:GREGORIAN
METHOD:PUBLISH
X-ORIGINAL-URL:https://minnesotaavemainstreet.org
X-WR-CALDESC:Events for 
REFRESH-INTERVAL;VALUE=DURATION:PT1H
X-Robots-Tag:noindex
X-PUBLISHED-TTL:PT1H
BEGIN:VTIMEZONE
TZID:UTC
BEGIN:STANDARD
TZOFFSETFROM:+0000
TZOFFSETTO:+0000
TZNAME:UTC
DTSTART:20270101T000000
END:STANDARD
END:VTIMEZONE
BEGIN:VEVENT
DTSTART;TZID=UTC:20281005T130000
DTEND;TZID=UTC:20281005T140000
DTSTAMP:20260422T223310
CREATED:20251125T234508Z
LAST-MODIFIED:20251125T234508Z
UID:10001732-1854363600-1854367200@minnesotaavemainstreet.org
SUMMARY:Anger\, Alcohol\, and Abuse Workshop
DESCRIPTION:Together\, we can end the abuse. \n“Silence hides violence” \nDate: Every Thursday at 1 PM \nFor more information\, contact JaNeise Sturdivant.\n• Phone: (202) 430 – 2240\n• Email: jsturdivant@erfsc.org \nJoin us on Zoom.\nMeeting ID: 860 815 2687
URL:https://minnesotaavemainstreet.org/event/anger-alcohol-and-abuse-workshop/2028-10-05/
LOCATION:Zoom
END:VEVENT
BEGIN:VEVENT
DTSTART;TZID=UTC:20281005T170000
DTEND;TZID=UTC:20281005T190000
DTSTAMP:20260422T223310
CREATED:20251125T234652Z
LAST-MODIFIED:20251125T234652Z
UID:10001992-1854378000-1854385200@minnesotaavemainstreet.org
SUMMARY:Parenting a Second Time Around (PASTA)
DESCRIPTION:PASTA – Parenting a Second Time Around. \nPASTA is a 8-week program that provides grandparents and other kinship caregivers with information\, skills\, and resources designed to enhance their ability to provide effective care for the young relatives they are parenting. \nDate: Every Thursday from 5:00 – 7:00 PM \nFor more information\, contact Katina Rayford\, Parent Educator.\n• Phone: (202) 734 – 2874\n• Email: Krayford@erfsc.org \nJoin us on Zoom.\nMeeting ID: 860 815 2687
URL:https://minnesotaavemainstreet.org/event/parenting-a-second-time-around-pasta/2028-10-05/
LOCATION:Zoom
END:VEVENT
BEGIN:VEVENT
DTSTART;TZID=UTC:20281010T130000
DTEND;TZID=UTC:20281010T140000
DTSTAMP:20260422T223310
CREATED:20251125T232620Z
LAST-MODIFIED:20251125T232703Z
UID:10000429-1854795600-1854799200@minnesotaavemainstreet.org
SUMMARY:Domestic Violence Workshop
DESCRIPTION:The training emphasizes victim safety\, victim empowerment\, abuser accountability\, and a comprehensive system’s response to domestic abuse. \nLove is not abuse. \nDate: Every Tuesday at 1:00 PM \nFor more information\, contact JaNeise Sturdivant.\n• Phone: (202) 430 – 2240\n• Email: jsturdivant@erfsc.org \nJoin us on Zoom.\nMeeting ID: 860 815 2687
URL:https://minnesotaavemainstreet.org/event/domestic-violence-workshop/2028-10-10/
LOCATION:Zoom
END:VEVENT
BEGIN:VEVENT
DTSTART;TZID=UTC:20281010T170000
DTEND;TZID=UTC:20281010T190000
DTSTAMP:20260422T223310
CREATED:20251125T233252Z
LAST-MODIFIED:20251125T233252Z
UID:10000953-1854810000-1854817200@minnesotaavemainstreet.org
SUMMARY:Nurturing Parenting Program – Virtual
DESCRIPTION:Proven strategies that encourage cultural identity\, teach effective communication between family members\, promote family values\, and build self-esteem in children. \nNPP is a 12-week parenting program that encourage cultural identity\, teaches effective communication between family members\, promotes family values\, and build self-esteem in children. \nFor all families with children age 0-8 \nDate: Every Tuesday at 5:00 – 7:00 PM (Virtual) \nFor more information\, contact Katina Rayford\, Parent Educator.\n• Phone: (202) 734 – 2874\n• Email: Krayford@erfsc.org \nJoin us on Zoom.\nMeeting ID: 860 815 2687
URL:https://minnesotaavemainstreet.org/event/nurturing-parenting-program-virtual/2028-10-10/
LOCATION:Zoom
ATTACH;FMTTYPE=image/jpeg:https://minnesotaavemainstreet.org/wp-content/uploads/2025/11/Simple-Chalkboard-Parent-Night-School-Announcement.jpg
END:VEVENT
BEGIN:VEVENT
DTSTART;TZID=UTC:20281011T130000
DTEND;TZID=UTC:20281011T140000
DTSTAMP:20260422T223310
CREATED:20251125T234201Z
LAST-MODIFIED:20251125T234201Z
UID:10001213-1854882000-1854885600@minnesotaavemainstreet.org
SUMMARY:Parent Empowerment Workshop Series
DESCRIPTION:Activities and presentations for providing information on important and relevant parenting topics: Domestic Violence and Substance Awareness. \nDate: Every Wednesday at 1:00 PM \nFor more information\, contact JaNeise Sturdivant.\n• Phone: (202) 430 – 2240\n• Email: jsturdivant@erfsc.org \nJoin us on Zoom.\nMeeting ID: 860 815 2687
URL:https://minnesotaavemainstreet.org/event/parent-empowerment-workshop-series/2028-10-11/
LOCATION:Zoom
END:VEVENT
BEGIN:VEVENT
DTSTART;TZID=UTC:20281011T170000
DTEND;TZID=UTC:20281011T190000
DTSTAMP:20260422T223310
CREATED:20251125T234316Z
LAST-MODIFIED:20251125T234316Z
UID:10001473-1854896400-1854903600@minnesotaavemainstreet.org
SUMMARY:Effective Black Parenting Training
DESCRIPTION:
URL:https://minnesotaavemainstreet.org/event/effective-black-parenting-training/2028-10-11/
LOCATION:Zoom
END:VEVENT
BEGIN:VEVENT
DTSTART;TZID=UTC:20281012T130000
DTEND;TZID=UTC:20281012T140000
DTSTAMP:20260422T223310
CREATED:20251125T234508Z
LAST-MODIFIED:20251125T234508Z
UID:10001733-1854968400-1854972000@minnesotaavemainstreet.org
SUMMARY:Anger\, Alcohol\, and Abuse Workshop
DESCRIPTION:Together\, we can end the abuse. \n“Silence hides violence” \nDate: Every Thursday at 1 PM \nFor more information\, contact JaNeise Sturdivant.\n• Phone: (202) 430 – 2240\n• Email: jsturdivant@erfsc.org \nJoin us on Zoom.\nMeeting ID: 860 815 2687
URL:https://minnesotaavemainstreet.org/event/anger-alcohol-and-abuse-workshop/2028-10-12/
LOCATION:Zoom
END:VEVENT
BEGIN:VEVENT
DTSTART;TZID=UTC:20281012T170000
DTEND;TZID=UTC:20281012T190000
DTSTAMP:20260422T223310
CREATED:20251125T234652Z
LAST-MODIFIED:20251125T234652Z
UID:10001993-1854982800-1854990000@minnesotaavemainstreet.org
SUMMARY:Parenting a Second Time Around (PASTA)
DESCRIPTION:PASTA – Parenting a Second Time Around. \nPASTA is a 8-week program that provides grandparents and other kinship caregivers with information\, skills\, and resources designed to enhance their ability to provide effective care for the young relatives they are parenting. \nDate: Every Thursday from 5:00 – 7:00 PM \nFor more information\, contact Katina Rayford\, Parent Educator.\n• Phone: (202) 734 – 2874\n• Email: Krayford@erfsc.org \nJoin us on Zoom.\nMeeting ID: 860 815 2687
URL:https://minnesotaavemainstreet.org/event/parenting-a-second-time-around-pasta/2028-10-12/
LOCATION:Zoom
END:VEVENT
BEGIN:VEVENT
DTSTART;TZID=UTC:20281017T130000
DTEND;TZID=UTC:20281017T140000
DTSTAMP:20260422T223310
CREATED:20251125T232620Z
LAST-MODIFIED:20251125T232703Z
UID:10000430-1855400400-1855404000@minnesotaavemainstreet.org
SUMMARY:Domestic Violence Workshop
DESCRIPTION:The training emphasizes victim safety\, victim empowerment\, abuser accountability\, and a comprehensive system’s response to domestic abuse. \nLove is not abuse. \nDate: Every Tuesday at 1:00 PM \nFor more information\, contact JaNeise Sturdivant.\n• Phone: (202) 430 – 2240\n• Email: jsturdivant@erfsc.org \nJoin us on Zoom.\nMeeting ID: 860 815 2687
URL:https://minnesotaavemainstreet.org/event/domestic-violence-workshop/2028-10-17/
LOCATION:Zoom
END:VEVENT
BEGIN:VEVENT
DTSTART;TZID=UTC:20281017T170000
DTEND;TZID=UTC:20281017T190000
DTSTAMP:20260422T223310
CREATED:20251125T233252Z
LAST-MODIFIED:20251125T233252Z
UID:10000954-1855414800-1855422000@minnesotaavemainstreet.org
SUMMARY:Nurturing Parenting Program – Virtual
DESCRIPTION:Proven strategies that encourage cultural identity\, teach effective communication between family members\, promote family values\, and build self-esteem in children. \nNPP is a 12-week parenting program that encourage cultural identity\, teaches effective communication between family members\, promotes family values\, and build self-esteem in children. \nFor all families with children age 0-8 \nDate: Every Tuesday at 5:00 – 7:00 PM (Virtual) \nFor more information\, contact Katina Rayford\, Parent Educator.\n• Phone: (202) 734 – 2874\n• Email: Krayford@erfsc.org \nJoin us on Zoom.\nMeeting ID: 860 815 2687
URL:https://minnesotaavemainstreet.org/event/nurturing-parenting-program-virtual/2028-10-17/
LOCATION:Zoom
ATTACH;FMTTYPE=image/jpeg:https://minnesotaavemainstreet.org/wp-content/uploads/2025/11/Simple-Chalkboard-Parent-Night-School-Announcement.jpg
END:VEVENT
BEGIN:VEVENT
DTSTART;TZID=UTC:20281018T130000
DTEND;TZID=UTC:20281018T140000
DTSTAMP:20260422T223310
CREATED:20251125T234201Z
LAST-MODIFIED:20251125T234201Z
UID:10001214-1855486800-1855490400@minnesotaavemainstreet.org
SUMMARY:Parent Empowerment Workshop Series
DESCRIPTION:Activities and presentations for providing information on important and relevant parenting topics: Domestic Violence and Substance Awareness. \nDate: Every Wednesday at 1:00 PM \nFor more information\, contact JaNeise Sturdivant.\n• Phone: (202) 430 – 2240\n• Email: jsturdivant@erfsc.org \nJoin us on Zoom.\nMeeting ID: 860 815 2687
URL:https://minnesotaavemainstreet.org/event/parent-empowerment-workshop-series/2028-10-18/
LOCATION:Zoom
END:VEVENT
BEGIN:VEVENT
DTSTART;TZID=UTC:20281018T170000
DTEND;TZID=UTC:20281018T190000
DTSTAMP:20260422T223310
CREATED:20251125T234316Z
LAST-MODIFIED:20251125T234316Z
UID:10001474-1855501200-1855508400@minnesotaavemainstreet.org
SUMMARY:Effective Black Parenting Training
DESCRIPTION:
URL:https://minnesotaavemainstreet.org/event/effective-black-parenting-training/2028-10-18/
LOCATION:Zoom
END:VEVENT
BEGIN:VEVENT
DTSTART;TZID=UTC:20281019T130000
DTEND;TZID=UTC:20281019T140000
DTSTAMP:20260422T223310
CREATED:20251125T234508Z
LAST-MODIFIED:20251125T234508Z
UID:10001734-1855573200-1855576800@minnesotaavemainstreet.org
SUMMARY:Anger\, Alcohol\, and Abuse Workshop
DESCRIPTION:Together\, we can end the abuse. \n“Silence hides violence” \nDate: Every Thursday at 1 PM \nFor more information\, contact JaNeise Sturdivant.\n• Phone: (202) 430 – 2240\n• Email: jsturdivant@erfsc.org \nJoin us on Zoom.\nMeeting ID: 860 815 2687
URL:https://minnesotaavemainstreet.org/event/anger-alcohol-and-abuse-workshop/2028-10-19/
LOCATION:Zoom
END:VEVENT
BEGIN:VEVENT
DTSTART;TZID=UTC:20281019T170000
DTEND;TZID=UTC:20281019T190000
DTSTAMP:20260422T223310
CREATED:20251125T234652Z
LAST-MODIFIED:20251125T234652Z
UID:10001994-1855587600-1855594800@minnesotaavemainstreet.org
SUMMARY:Parenting a Second Time Around (PASTA)
DESCRIPTION:PASTA – Parenting a Second Time Around. \nPASTA is a 8-week program that provides grandparents and other kinship caregivers with information\, skills\, and resources designed to enhance their ability to provide effective care for the young relatives they are parenting. \nDate: Every Thursday from 5:00 – 7:00 PM \nFor more information\, contact Katina Rayford\, Parent Educator.\n• Phone: (202) 734 – 2874\n• Email: Krayford@erfsc.org \nJoin us on Zoom.\nMeeting ID: 860 815 2687
URL:https://minnesotaavemainstreet.org/event/parenting-a-second-time-around-pasta/2028-10-19/
LOCATION:Zoom
END:VEVENT
BEGIN:VEVENT
DTSTART;TZID=UTC:20281024T130000
DTEND;TZID=UTC:20281024T140000
DTSTAMP:20260422T223310
CREATED:20251125T232620Z
LAST-MODIFIED:20251125T232703Z
UID:10000431-1856005200-1856008800@minnesotaavemainstreet.org
SUMMARY:Domestic Violence Workshop
DESCRIPTION:The training emphasizes victim safety\, victim empowerment\, abuser accountability\, and a comprehensive system’s response to domestic abuse. \nLove is not abuse. \nDate: Every Tuesday at 1:00 PM \nFor more information\, contact JaNeise Sturdivant.\n• Phone: (202) 430 – 2240\n• Email: jsturdivant@erfsc.org \nJoin us on Zoom.\nMeeting ID: 860 815 2687
URL:https://minnesotaavemainstreet.org/event/domestic-violence-workshop/2028-10-24/
LOCATION:Zoom
END:VEVENT
BEGIN:VEVENT
DTSTART;TZID=UTC:20281024T170000
DTEND;TZID=UTC:20281024T190000
DTSTAMP:20260422T223310
CREATED:20251125T233252Z
LAST-MODIFIED:20251125T233252Z
UID:10000955-1856019600-1856026800@minnesotaavemainstreet.org
SUMMARY:Nurturing Parenting Program – Virtual
DESCRIPTION:Proven strategies that encourage cultural identity\, teach effective communication between family members\, promote family values\, and build self-esteem in children. \nNPP is a 12-week parenting program that encourage cultural identity\, teaches effective communication between family members\, promotes family values\, and build self-esteem in children. \nFor all families with children age 0-8 \nDate: Every Tuesday at 5:00 – 7:00 PM (Virtual) \nFor more information\, contact Katina Rayford\, Parent Educator.\n• Phone: (202) 734 – 2874\n• Email: Krayford@erfsc.org \nJoin us on Zoom.\nMeeting ID: 860 815 2687
URL:https://minnesotaavemainstreet.org/event/nurturing-parenting-program-virtual/2028-10-24/
LOCATION:Zoom
ATTACH;FMTTYPE=image/jpeg:https://minnesotaavemainstreet.org/wp-content/uploads/2025/11/Simple-Chalkboard-Parent-Night-School-Announcement.jpg
END:VEVENT
BEGIN:VEVENT
DTSTART;TZID=UTC:20281025T130000
DTEND;TZID=UTC:20281025T140000
DTSTAMP:20260422T223310
CREATED:20251125T234201Z
LAST-MODIFIED:20251125T234201Z
UID:10001215-1856091600-1856095200@minnesotaavemainstreet.org
SUMMARY:Parent Empowerment Workshop Series
DESCRIPTION:Activities and presentations for providing information on important and relevant parenting topics: Domestic Violence and Substance Awareness. \nDate: Every Wednesday at 1:00 PM \nFor more information\, contact JaNeise Sturdivant.\n• Phone: (202) 430 – 2240\n• Email: jsturdivant@erfsc.org \nJoin us on Zoom.\nMeeting ID: 860 815 2687
URL:https://minnesotaavemainstreet.org/event/parent-empowerment-workshop-series/2028-10-25/
LOCATION:Zoom
END:VEVENT
BEGIN:VEVENT
DTSTART;TZID=UTC:20281025T170000
DTEND;TZID=UTC:20281025T190000
DTSTAMP:20260422T223310
CREATED:20251125T234316Z
LAST-MODIFIED:20251125T234316Z
UID:10001475-1856106000-1856113200@minnesotaavemainstreet.org
SUMMARY:Effective Black Parenting Training
DESCRIPTION:
URL:https://minnesotaavemainstreet.org/event/effective-black-parenting-training/2028-10-25/
LOCATION:Zoom
END:VEVENT
BEGIN:VEVENT
DTSTART;TZID=UTC:20281026T130000
DTEND;TZID=UTC:20281026T140000
DTSTAMP:20260422T223310
CREATED:20251125T234508Z
LAST-MODIFIED:20251125T234508Z
UID:10001735-1856178000-1856181600@minnesotaavemainstreet.org
SUMMARY:Anger\, Alcohol\, and Abuse Workshop
DESCRIPTION:Together\, we can end the abuse. \n“Silence hides violence” \nDate: Every Thursday at 1 PM \nFor more information\, contact JaNeise Sturdivant.\n• Phone: (202) 430 – 2240\n• Email: jsturdivant@erfsc.org \nJoin us on Zoom.\nMeeting ID: 860 815 2687
URL:https://minnesotaavemainstreet.org/event/anger-alcohol-and-abuse-workshop/2028-10-26/
LOCATION:Zoom
END:VEVENT
BEGIN:VEVENT
DTSTART;TZID=UTC:20281026T170000
DTEND;TZID=UTC:20281026T190000
DTSTAMP:20260422T223310
CREATED:20251125T234652Z
LAST-MODIFIED:20251125T234652Z
UID:10001995-1856192400-1856199600@minnesotaavemainstreet.org
SUMMARY:Parenting a Second Time Around (PASTA)
DESCRIPTION:PASTA – Parenting a Second Time Around. \nPASTA is a 8-week program that provides grandparents and other kinship caregivers with information\, skills\, and resources designed to enhance their ability to provide effective care for the young relatives they are parenting. \nDate: Every Thursday from 5:00 – 7:00 PM \nFor more information\, contact Katina Rayford\, Parent Educator.\n• Phone: (202) 734 – 2874\n• Email: Krayford@erfsc.org \nJoin us on Zoom.\nMeeting ID: 860 815 2687
URL:https://minnesotaavemainstreet.org/event/parenting-a-second-time-around-pasta/2028-10-26/
LOCATION:Zoom
END:VEVENT
BEGIN:VEVENT
DTSTART;TZID=UTC:20281031T130000
DTEND;TZID=UTC:20281031T140000
DTSTAMP:20260422T223310
CREATED:20251125T232620Z
LAST-MODIFIED:20251125T232703Z
UID:10000432-1856610000-1856613600@minnesotaavemainstreet.org
SUMMARY:Domestic Violence Workshop
DESCRIPTION:The training emphasizes victim safety\, victim empowerment\, abuser accountability\, and a comprehensive system’s response to domestic abuse. \nLove is not abuse. \nDate: Every Tuesday at 1:00 PM \nFor more information\, contact JaNeise Sturdivant.\n• Phone: (202) 430 – 2240\n• Email: jsturdivant@erfsc.org \nJoin us on Zoom.\nMeeting ID: 860 815 2687
URL:https://minnesotaavemainstreet.org/event/domestic-violence-workshop/2028-10-31/
LOCATION:Zoom
END:VEVENT
BEGIN:VEVENT
DTSTART;TZID=UTC:20281031T170000
DTEND;TZID=UTC:20281031T190000
DTSTAMP:20260422T223310
CREATED:20251125T233252Z
LAST-MODIFIED:20251125T233252Z
UID:10000956-1856624400-1856631600@minnesotaavemainstreet.org
SUMMARY:Nurturing Parenting Program – Virtual
DESCRIPTION:Proven strategies that encourage cultural identity\, teach effective communication between family members\, promote family values\, and build self-esteem in children. \nNPP is a 12-week parenting program that encourage cultural identity\, teaches effective communication between family members\, promotes family values\, and build self-esteem in children. \nFor all families with children age 0-8 \nDate: Every Tuesday at 5:00 – 7:00 PM (Virtual) \nFor more information\, contact Katina Rayford\, Parent Educator.\n• Phone: (202) 734 – 2874\n• Email: Krayford@erfsc.org \nJoin us on Zoom.\nMeeting ID: 860 815 2687
URL:https://minnesotaavemainstreet.org/event/nurturing-parenting-program-virtual/2028-10-31/
LOCATION:Zoom
ATTACH;FMTTYPE=image/jpeg:https://minnesotaavemainstreet.org/wp-content/uploads/2025/11/Simple-Chalkboard-Parent-Night-School-Announcement.jpg
END:VEVENT
BEGIN:VEVENT
DTSTART;TZID=UTC:20281101T130000
DTEND;TZID=UTC:20281101T140000
DTSTAMP:20260422T223310
CREATED:20251125T234201Z
LAST-MODIFIED:20251125T234201Z
UID:10001216-1856696400-1856700000@minnesotaavemainstreet.org
SUMMARY:Parent Empowerment Workshop Series
DESCRIPTION:Activities and presentations for providing information on important and relevant parenting topics: Domestic Violence and Substance Awareness. \nDate: Every Wednesday at 1:00 PM \nFor more information\, contact JaNeise Sturdivant.\n• Phone: (202) 430 – 2240\n• Email: jsturdivant@erfsc.org \nJoin us on Zoom.\nMeeting ID: 860 815 2687
URL:https://minnesotaavemainstreet.org/event/parent-empowerment-workshop-series/2028-11-01/
LOCATION:Zoom
END:VEVENT
BEGIN:VEVENT
DTSTART;TZID=UTC:20281101T170000
DTEND;TZID=UTC:20281101T190000
DTSTAMP:20260422T223310
CREATED:20251125T234316Z
LAST-MODIFIED:20251125T234316Z
UID:10001476-1856710800-1856718000@minnesotaavemainstreet.org
SUMMARY:Effective Black Parenting Training
DESCRIPTION:
URL:https://minnesotaavemainstreet.org/event/effective-black-parenting-training/2028-11-01/
LOCATION:Zoom
END:VEVENT
BEGIN:VEVENT
DTSTART;TZID=UTC:20281102T130000
DTEND;TZID=UTC:20281102T140000
DTSTAMP:20260422T223310
CREATED:20251125T234508Z
LAST-MODIFIED:20251125T234508Z
UID:10001736-1856782800-1856786400@minnesotaavemainstreet.org
SUMMARY:Anger\, Alcohol\, and Abuse Workshop
DESCRIPTION:Together\, we can end the abuse. \n“Silence hides violence” \nDate: Every Thursday at 1 PM \nFor more information\, contact JaNeise Sturdivant.\n• Phone: (202) 430 – 2240\n• Email: jsturdivant@erfsc.org \nJoin us on Zoom.\nMeeting ID: 860 815 2687
URL:https://minnesotaavemainstreet.org/event/anger-alcohol-and-abuse-workshop/2028-11-02/
LOCATION:Zoom
END:VEVENT
BEGIN:VEVENT
DTSTART;TZID=UTC:20281102T170000
DTEND;TZID=UTC:20281102T190000
DTSTAMP:20260422T223310
CREATED:20251125T234652Z
LAST-MODIFIED:20251125T234652Z
UID:10001996-1856797200-1856804400@minnesotaavemainstreet.org
SUMMARY:Parenting a Second Time Around (PASTA)
DESCRIPTION:PASTA – Parenting a Second Time Around. \nPASTA is a 8-week program that provides grandparents and other kinship caregivers with information\, skills\, and resources designed to enhance their ability to provide effective care for the young relatives they are parenting. \nDate: Every Thursday from 5:00 – 7:00 PM \nFor more information\, contact Katina Rayford\, Parent Educator.\n• Phone: (202) 734 – 2874\n• Email: Krayford@erfsc.org \nJoin us on Zoom.\nMeeting ID: 860 815 2687
URL:https://minnesotaavemainstreet.org/event/parenting-a-second-time-around-pasta/2028-11-02/
LOCATION:Zoom
END:VEVENT
BEGIN:VEVENT
DTSTART;TZID=UTC:20281107T130000
DTEND;TZID=UTC:20281107T140000
DTSTAMP:20260422T223310
CREATED:20251125T232620Z
LAST-MODIFIED:20251125T232703Z
UID:10000433-1857214800-1857218400@minnesotaavemainstreet.org
SUMMARY:Domestic Violence Workshop
DESCRIPTION:The training emphasizes victim safety\, victim empowerment\, abuser accountability\, and a comprehensive system’s response to domestic abuse. \nLove is not abuse. \nDate: Every Tuesday at 1:00 PM \nFor more information\, contact JaNeise Sturdivant.\n• Phone: (202) 430 – 2240\n• Email: jsturdivant@erfsc.org \nJoin us on Zoom.\nMeeting ID: 860 815 2687
URL:https://minnesotaavemainstreet.org/event/domestic-violence-workshop/2028-11-07/
LOCATION:Zoom
END:VEVENT
BEGIN:VEVENT
DTSTART;TZID=UTC:20281107T170000
DTEND;TZID=UTC:20281107T190000
DTSTAMP:20260422T223310
CREATED:20251125T233252Z
LAST-MODIFIED:20251125T233252Z
UID:10000957-1857229200-1857236400@minnesotaavemainstreet.org
SUMMARY:Nurturing Parenting Program – Virtual
DESCRIPTION:Proven strategies that encourage cultural identity\, teach effective communication between family members\, promote family values\, and build self-esteem in children. \nNPP is a 12-week parenting program that encourage cultural identity\, teaches effective communication between family members\, promotes family values\, and build self-esteem in children. \nFor all families with children age 0-8 \nDate: Every Tuesday at 5:00 – 7:00 PM (Virtual) \nFor more information\, contact Katina Rayford\, Parent Educator.\n• Phone: (202) 734 – 2874\n• Email: Krayford@erfsc.org \nJoin us on Zoom.\nMeeting ID: 860 815 2687
URL:https://minnesotaavemainstreet.org/event/nurturing-parenting-program-virtual/2028-11-07/
LOCATION:Zoom
ATTACH;FMTTYPE=image/jpeg:https://minnesotaavemainstreet.org/wp-content/uploads/2025/11/Simple-Chalkboard-Parent-Night-School-Announcement.jpg
END:VEVENT
BEGIN:VEVENT
DTSTART;TZID=UTC:20281108T130000
DTEND;TZID=UTC:20281108T140000
DTSTAMP:20260422T223310
CREATED:20251125T234201Z
LAST-MODIFIED:20251125T234201Z
UID:10001217-1857301200-1857304800@minnesotaavemainstreet.org
SUMMARY:Parent Empowerment Workshop Series
DESCRIPTION:Activities and presentations for providing information on important and relevant parenting topics: Domestic Violence and Substance Awareness. \nDate: Every Wednesday at 1:00 PM \nFor more information\, contact JaNeise Sturdivant.\n• Phone: (202) 430 – 2240\n• Email: jsturdivant@erfsc.org \nJoin us on Zoom.\nMeeting ID: 860 815 2687
URL:https://minnesotaavemainstreet.org/event/parent-empowerment-workshop-series/2028-11-08/
LOCATION:Zoom
END:VEVENT
BEGIN:VEVENT
DTSTART;TZID=UTC:20281108T170000
DTEND;TZID=UTC:20281108T190000
DTSTAMP:20260422T223310
CREATED:20251125T234316Z
LAST-MODIFIED:20251125T234316Z
UID:10001477-1857315600-1857322800@minnesotaavemainstreet.org
SUMMARY:Effective Black Parenting Training
DESCRIPTION:
URL:https://minnesotaavemainstreet.org/event/effective-black-parenting-training/2028-11-08/
LOCATION:Zoom
END:VEVENT
END:VCALENDAR