BEGIN:VCALENDAR
VERSION:2.0
PRODID:-// - ECPv6.15.20//NONSGML v1.0//EN
CALSCALE:GREGORIAN
METHOD:PUBLISH
X-ORIGINAL-URL:https://minnesotaavemainstreet.org
X-WR-CALDESC:Events for 
REFRESH-INTERVAL;VALUE=DURATION:PT1H
X-Robots-Tag:noindex
X-PUBLISHED-TTL:PT1H
BEGIN:VTIMEZONE
TZID:UTC
BEGIN:STANDARD
TZOFFSETFROM:+0000
TZOFFSETTO:+0000
TZNAME:UTC
DTSTART:20270101T000000
END:STANDARD
END:VTIMEZONE
BEGIN:VEVENT
DTSTART;TZID=UTC:20280809T170000
DTEND;TZID=UTC:20280809T190000
DTSTAMP:20260422T165905
CREATED:20251125T234316Z
LAST-MODIFIED:20251125T234316Z
UID:10001464-1849453200-1849460400@minnesotaavemainstreet.org
SUMMARY:Effective Black Parenting Training
DESCRIPTION:
URL:https://minnesotaavemainstreet.org/event/effective-black-parenting-training/2028-08-09/
LOCATION:Zoom
END:VEVENT
BEGIN:VEVENT
DTSTART;TZID=UTC:20280810T130000
DTEND;TZID=UTC:20280810T140000
DTSTAMP:20260422T165905
CREATED:20251125T234508Z
LAST-MODIFIED:20251125T234508Z
UID:10001724-1849525200-1849528800@minnesotaavemainstreet.org
SUMMARY:Anger\, Alcohol\, and Abuse Workshop
DESCRIPTION:Together\, we can end the abuse. \n“Silence hides violence” \nDate: Every Thursday at 1 PM \nFor more information\, contact JaNeise Sturdivant.\n• Phone: (202) 430 – 2240\n• Email: jsturdivant@erfsc.org \nJoin us on Zoom.\nMeeting ID: 860 815 2687
URL:https://minnesotaavemainstreet.org/event/anger-alcohol-and-abuse-workshop/2028-08-10/
LOCATION:Zoom
END:VEVENT
BEGIN:VEVENT
DTSTART;TZID=UTC:20280810T170000
DTEND;TZID=UTC:20280810T190000
DTSTAMP:20260422T165905
CREATED:20251125T234652Z
LAST-MODIFIED:20251125T234652Z
UID:10001984-1849539600-1849546800@minnesotaavemainstreet.org
SUMMARY:Parenting a Second Time Around (PASTA)
DESCRIPTION:PASTA – Parenting a Second Time Around. \nPASTA is a 8-week program that provides grandparents and other kinship caregivers with information\, skills\, and resources designed to enhance their ability to provide effective care for the young relatives they are parenting. \nDate: Every Thursday from 5:00 – 7:00 PM \nFor more information\, contact Katina Rayford\, Parent Educator.\n• Phone: (202) 734 – 2874\n• Email: Krayford@erfsc.org \nJoin us on Zoom.\nMeeting ID: 860 815 2687
URL:https://minnesotaavemainstreet.org/event/parenting-a-second-time-around-pasta/2028-08-10/
LOCATION:Zoom
END:VEVENT
BEGIN:VEVENT
DTSTART;TZID=UTC:20280815T130000
DTEND;TZID=UTC:20280815T140000
DTSTAMP:20260422T165905
CREATED:20251125T232620Z
LAST-MODIFIED:20251125T232703Z
UID:10000421-1849957200-1849960800@minnesotaavemainstreet.org
SUMMARY:Domestic Violence Workshop
DESCRIPTION:The training emphasizes victim safety\, victim empowerment\, abuser accountability\, and a comprehensive system’s response to domestic abuse. \nLove is not abuse. \nDate: Every Tuesday at 1:00 PM \nFor more information\, contact JaNeise Sturdivant.\n• Phone: (202) 430 – 2240\n• Email: jsturdivant@erfsc.org \nJoin us on Zoom.\nMeeting ID: 860 815 2687
URL:https://minnesotaavemainstreet.org/event/domestic-violence-workshop/2028-08-15/
LOCATION:Zoom
END:VEVENT
BEGIN:VEVENT
DTSTART;TZID=UTC:20280815T170000
DTEND;TZID=UTC:20280815T190000
DTSTAMP:20260422T165905
CREATED:20251125T233252Z
LAST-MODIFIED:20251125T233252Z
UID:10000945-1849971600-1849978800@minnesotaavemainstreet.org
SUMMARY:Nurturing Parenting Program – Virtual
DESCRIPTION:Proven strategies that encourage cultural identity\, teach effective communication between family members\, promote family values\, and build self-esteem in children. \nNPP is a 12-week parenting program that encourage cultural identity\, teaches effective communication between family members\, promotes family values\, and build self-esteem in children. \nFor all families with children age 0-8 \nDate: Every Tuesday at 5:00 – 7:00 PM (Virtual) \nFor more information\, contact Katina Rayford\, Parent Educator.\n• Phone: (202) 734 – 2874\n• Email: Krayford@erfsc.org \nJoin us on Zoom.\nMeeting ID: 860 815 2687
URL:https://minnesotaavemainstreet.org/event/nurturing-parenting-program-virtual/2028-08-15/
LOCATION:Zoom
ATTACH;FMTTYPE=image/jpeg:https://minnesotaavemainstreet.org/wp-content/uploads/2025/11/Simple-Chalkboard-Parent-Night-School-Announcement.jpg
END:VEVENT
BEGIN:VEVENT
DTSTART;TZID=UTC:20280816T130000
DTEND;TZID=UTC:20280816T140000
DTSTAMP:20260422T165905
CREATED:20251125T234201Z
LAST-MODIFIED:20251125T234201Z
UID:10001205-1850043600-1850047200@minnesotaavemainstreet.org
SUMMARY:Parent Empowerment Workshop Series
DESCRIPTION:Activities and presentations for providing information on important and relevant parenting topics: Domestic Violence and Substance Awareness. \nDate: Every Wednesday at 1:00 PM \nFor more information\, contact JaNeise Sturdivant.\n• Phone: (202) 430 – 2240\n• Email: jsturdivant@erfsc.org \nJoin us on Zoom.\nMeeting ID: 860 815 2687
URL:https://minnesotaavemainstreet.org/event/parent-empowerment-workshop-series/2028-08-16/
LOCATION:Zoom
END:VEVENT
BEGIN:VEVENT
DTSTART;TZID=UTC:20280816T170000
DTEND;TZID=UTC:20280816T190000
DTSTAMP:20260422T165905
CREATED:20251125T234316Z
LAST-MODIFIED:20251125T234316Z
UID:10001465-1850058000-1850065200@minnesotaavemainstreet.org
SUMMARY:Effective Black Parenting Training
DESCRIPTION:
URL:https://minnesotaavemainstreet.org/event/effective-black-parenting-training/2028-08-16/
LOCATION:Zoom
END:VEVENT
BEGIN:VEVENT
DTSTART;TZID=UTC:20280817T130000
DTEND;TZID=UTC:20280817T140000
DTSTAMP:20260422T165905
CREATED:20251125T234508Z
LAST-MODIFIED:20251125T234508Z
UID:10001725-1850130000-1850133600@minnesotaavemainstreet.org
SUMMARY:Anger\, Alcohol\, and Abuse Workshop
DESCRIPTION:Together\, we can end the abuse. \n“Silence hides violence” \nDate: Every Thursday at 1 PM \nFor more information\, contact JaNeise Sturdivant.\n• Phone: (202) 430 – 2240\n• Email: jsturdivant@erfsc.org \nJoin us on Zoom.\nMeeting ID: 860 815 2687
URL:https://minnesotaavemainstreet.org/event/anger-alcohol-and-abuse-workshop/2028-08-17/
LOCATION:Zoom
END:VEVENT
BEGIN:VEVENT
DTSTART;TZID=UTC:20280817T170000
DTEND;TZID=UTC:20280817T190000
DTSTAMP:20260422T165905
CREATED:20251125T234652Z
LAST-MODIFIED:20251125T234652Z
UID:10001985-1850144400-1850151600@minnesotaavemainstreet.org
SUMMARY:Parenting a Second Time Around (PASTA)
DESCRIPTION:PASTA – Parenting a Second Time Around. \nPASTA is a 8-week program that provides grandparents and other kinship caregivers with information\, skills\, and resources designed to enhance their ability to provide effective care for the young relatives they are parenting. \nDate: Every Thursday from 5:00 – 7:00 PM \nFor more information\, contact Katina Rayford\, Parent Educator.\n• Phone: (202) 734 – 2874\n• Email: Krayford@erfsc.org \nJoin us on Zoom.\nMeeting ID: 860 815 2687
URL:https://minnesotaavemainstreet.org/event/parenting-a-second-time-around-pasta/2028-08-17/
LOCATION:Zoom
END:VEVENT
BEGIN:VEVENT
DTSTART;TZID=UTC:20280822T130000
DTEND;TZID=UTC:20280822T140000
DTSTAMP:20260422T165905
CREATED:20251125T232620Z
LAST-MODIFIED:20251125T232703Z
UID:10000422-1850562000-1850565600@minnesotaavemainstreet.org
SUMMARY:Domestic Violence Workshop
DESCRIPTION:The training emphasizes victim safety\, victim empowerment\, abuser accountability\, and a comprehensive system’s response to domestic abuse. \nLove is not abuse. \nDate: Every Tuesday at 1:00 PM \nFor more information\, contact JaNeise Sturdivant.\n• Phone: (202) 430 – 2240\n• Email: jsturdivant@erfsc.org \nJoin us on Zoom.\nMeeting ID: 860 815 2687
URL:https://minnesotaavemainstreet.org/event/domestic-violence-workshop/2028-08-22/
LOCATION:Zoom
END:VEVENT
BEGIN:VEVENT
DTSTART;TZID=UTC:20280822T170000
DTEND;TZID=UTC:20280822T190000
DTSTAMP:20260422T165905
CREATED:20251125T233252Z
LAST-MODIFIED:20251125T233252Z
UID:10000946-1850576400-1850583600@minnesotaavemainstreet.org
SUMMARY:Nurturing Parenting Program – Virtual
DESCRIPTION:Proven strategies that encourage cultural identity\, teach effective communication between family members\, promote family values\, and build self-esteem in children. \nNPP is a 12-week parenting program that encourage cultural identity\, teaches effective communication between family members\, promotes family values\, and build self-esteem in children. \nFor all families with children age 0-8 \nDate: Every Tuesday at 5:00 – 7:00 PM (Virtual) \nFor more information\, contact Katina Rayford\, Parent Educator.\n• Phone: (202) 734 – 2874\n• Email: Krayford@erfsc.org \nJoin us on Zoom.\nMeeting ID: 860 815 2687
URL:https://minnesotaavemainstreet.org/event/nurturing-parenting-program-virtual/2028-08-22/
LOCATION:Zoom
ATTACH;FMTTYPE=image/jpeg:https://minnesotaavemainstreet.org/wp-content/uploads/2025/11/Simple-Chalkboard-Parent-Night-School-Announcement.jpg
END:VEVENT
BEGIN:VEVENT
DTSTART;TZID=UTC:20280823T130000
DTEND;TZID=UTC:20280823T140000
DTSTAMP:20260422T165905
CREATED:20251125T234201Z
LAST-MODIFIED:20251125T234201Z
UID:10001206-1850648400-1850652000@minnesotaavemainstreet.org
SUMMARY:Parent Empowerment Workshop Series
DESCRIPTION:Activities and presentations for providing information on important and relevant parenting topics: Domestic Violence and Substance Awareness. \nDate: Every Wednesday at 1:00 PM \nFor more information\, contact JaNeise Sturdivant.\n• Phone: (202) 430 – 2240\n• Email: jsturdivant@erfsc.org \nJoin us on Zoom.\nMeeting ID: 860 815 2687
URL:https://minnesotaavemainstreet.org/event/parent-empowerment-workshop-series/2028-08-23/
LOCATION:Zoom
END:VEVENT
BEGIN:VEVENT
DTSTART;TZID=UTC:20280823T170000
DTEND;TZID=UTC:20280823T190000
DTSTAMP:20260422T165905
CREATED:20251125T234316Z
LAST-MODIFIED:20251125T234316Z
UID:10001466-1850662800-1850670000@minnesotaavemainstreet.org
SUMMARY:Effective Black Parenting Training
DESCRIPTION:
URL:https://minnesotaavemainstreet.org/event/effective-black-parenting-training/2028-08-23/
LOCATION:Zoom
END:VEVENT
BEGIN:VEVENT
DTSTART;TZID=UTC:20280824T130000
DTEND;TZID=UTC:20280824T140000
DTSTAMP:20260422T165905
CREATED:20251125T234508Z
LAST-MODIFIED:20251125T234508Z
UID:10001726-1850734800-1850738400@minnesotaavemainstreet.org
SUMMARY:Anger\, Alcohol\, and Abuse Workshop
DESCRIPTION:Together\, we can end the abuse. \n“Silence hides violence” \nDate: Every Thursday at 1 PM \nFor more information\, contact JaNeise Sturdivant.\n• Phone: (202) 430 – 2240\n• Email: jsturdivant@erfsc.org \nJoin us on Zoom.\nMeeting ID: 860 815 2687
URL:https://minnesotaavemainstreet.org/event/anger-alcohol-and-abuse-workshop/2028-08-24/
LOCATION:Zoom
END:VEVENT
BEGIN:VEVENT
DTSTART;TZID=UTC:20280824T170000
DTEND;TZID=UTC:20280824T190000
DTSTAMP:20260422T165905
CREATED:20251125T234652Z
LAST-MODIFIED:20251125T234652Z
UID:10001986-1850749200-1850756400@minnesotaavemainstreet.org
SUMMARY:Parenting a Second Time Around (PASTA)
DESCRIPTION:PASTA – Parenting a Second Time Around. \nPASTA is a 8-week program that provides grandparents and other kinship caregivers with information\, skills\, and resources designed to enhance their ability to provide effective care for the young relatives they are parenting. \nDate: Every Thursday from 5:00 – 7:00 PM \nFor more information\, contact Katina Rayford\, Parent Educator.\n• Phone: (202) 734 – 2874\n• Email: Krayford@erfsc.org \nJoin us on Zoom.\nMeeting ID: 860 815 2687
URL:https://minnesotaavemainstreet.org/event/parenting-a-second-time-around-pasta/2028-08-24/
LOCATION:Zoom
END:VEVENT
BEGIN:VEVENT
DTSTART;TZID=UTC:20280829T130000
DTEND;TZID=UTC:20280829T140000
DTSTAMP:20260422T165905
CREATED:20251125T232620Z
LAST-MODIFIED:20251125T232703Z
UID:10000423-1851166800-1851170400@minnesotaavemainstreet.org
SUMMARY:Domestic Violence Workshop
DESCRIPTION:The training emphasizes victim safety\, victim empowerment\, abuser accountability\, and a comprehensive system’s response to domestic abuse. \nLove is not abuse. \nDate: Every Tuesday at 1:00 PM \nFor more information\, contact JaNeise Sturdivant.\n• Phone: (202) 430 – 2240\n• Email: jsturdivant@erfsc.org \nJoin us on Zoom.\nMeeting ID: 860 815 2687
URL:https://minnesotaavemainstreet.org/event/domestic-violence-workshop/2028-08-29/
LOCATION:Zoom
END:VEVENT
BEGIN:VEVENT
DTSTART;TZID=UTC:20280829T170000
DTEND;TZID=UTC:20280829T190000
DTSTAMP:20260422T165905
CREATED:20251125T233252Z
LAST-MODIFIED:20251125T233252Z
UID:10000947-1851181200-1851188400@minnesotaavemainstreet.org
SUMMARY:Nurturing Parenting Program – Virtual
DESCRIPTION:Proven strategies that encourage cultural identity\, teach effective communication between family members\, promote family values\, and build self-esteem in children. \nNPP is a 12-week parenting program that encourage cultural identity\, teaches effective communication between family members\, promotes family values\, and build self-esteem in children. \nFor all families with children age 0-8 \nDate: Every Tuesday at 5:00 – 7:00 PM (Virtual) \nFor more information\, contact Katina Rayford\, Parent Educator.\n• Phone: (202) 734 – 2874\n• Email: Krayford@erfsc.org \nJoin us on Zoom.\nMeeting ID: 860 815 2687
URL:https://minnesotaavemainstreet.org/event/nurturing-parenting-program-virtual/2028-08-29/
LOCATION:Zoom
ATTACH;FMTTYPE=image/jpeg:https://minnesotaavemainstreet.org/wp-content/uploads/2025/11/Simple-Chalkboard-Parent-Night-School-Announcement.jpg
END:VEVENT
BEGIN:VEVENT
DTSTART;TZID=UTC:20280830T130000
DTEND;TZID=UTC:20280830T140000
DTSTAMP:20260422T165906
CREATED:20251125T234201Z
LAST-MODIFIED:20251125T234201Z
UID:10001207-1851253200-1851256800@minnesotaavemainstreet.org
SUMMARY:Parent Empowerment Workshop Series
DESCRIPTION:Activities and presentations for providing information on important and relevant parenting topics: Domestic Violence and Substance Awareness. \nDate: Every Wednesday at 1:00 PM \nFor more information\, contact JaNeise Sturdivant.\n• Phone: (202) 430 – 2240\n• Email: jsturdivant@erfsc.org \nJoin us on Zoom.\nMeeting ID: 860 815 2687
URL:https://minnesotaavemainstreet.org/event/parent-empowerment-workshop-series/2028-08-30/
LOCATION:Zoom
END:VEVENT
BEGIN:VEVENT
DTSTART;TZID=UTC:20280830T170000
DTEND;TZID=UTC:20280830T190000
DTSTAMP:20260422T165906
CREATED:20251125T234316Z
LAST-MODIFIED:20251125T234316Z
UID:10001467-1851267600-1851274800@minnesotaavemainstreet.org
SUMMARY:Effective Black Parenting Training
DESCRIPTION:
URL:https://minnesotaavemainstreet.org/event/effective-black-parenting-training/2028-08-30/
LOCATION:Zoom
END:VEVENT
BEGIN:VEVENT
DTSTART;TZID=UTC:20280831T130000
DTEND;TZID=UTC:20280831T140000
DTSTAMP:20260422T165906
CREATED:20251125T234508Z
LAST-MODIFIED:20251125T234508Z
UID:10001727-1851339600-1851343200@minnesotaavemainstreet.org
SUMMARY:Anger\, Alcohol\, and Abuse Workshop
DESCRIPTION:Together\, we can end the abuse. \n“Silence hides violence” \nDate: Every Thursday at 1 PM \nFor more information\, contact JaNeise Sturdivant.\n• Phone: (202) 430 – 2240\n• Email: jsturdivant@erfsc.org \nJoin us on Zoom.\nMeeting ID: 860 815 2687
URL:https://minnesotaavemainstreet.org/event/anger-alcohol-and-abuse-workshop/2028-08-31/
LOCATION:Zoom
END:VEVENT
BEGIN:VEVENT
DTSTART;TZID=UTC:20280831T170000
DTEND;TZID=UTC:20280831T190000
DTSTAMP:20260422T165906
CREATED:20251125T234652Z
LAST-MODIFIED:20251125T234652Z
UID:10001987-1851354000-1851361200@minnesotaavemainstreet.org
SUMMARY:Parenting a Second Time Around (PASTA)
DESCRIPTION:PASTA – Parenting a Second Time Around. \nPASTA is a 8-week program that provides grandparents and other kinship caregivers with information\, skills\, and resources designed to enhance their ability to provide effective care for the young relatives they are parenting. \nDate: Every Thursday from 5:00 – 7:00 PM \nFor more information\, contact Katina Rayford\, Parent Educator.\n• Phone: (202) 734 – 2874\n• Email: Krayford@erfsc.org \nJoin us on Zoom.\nMeeting ID: 860 815 2687
URL:https://minnesotaavemainstreet.org/event/parenting-a-second-time-around-pasta/2028-08-31/
LOCATION:Zoom
END:VEVENT
BEGIN:VEVENT
DTSTART;TZID=UTC:20280905T130000
DTEND;TZID=UTC:20280905T140000
DTSTAMP:20260422T165906
CREATED:20251125T232620Z
LAST-MODIFIED:20251125T232703Z
UID:10000424-1851771600-1851775200@minnesotaavemainstreet.org
SUMMARY:Domestic Violence Workshop
DESCRIPTION:The training emphasizes victim safety\, victim empowerment\, abuser accountability\, and a comprehensive system’s response to domestic abuse. \nLove is not abuse. \nDate: Every Tuesday at 1:00 PM \nFor more information\, contact JaNeise Sturdivant.\n• Phone: (202) 430 – 2240\n• Email: jsturdivant@erfsc.org \nJoin us on Zoom.\nMeeting ID: 860 815 2687
URL:https://minnesotaavemainstreet.org/event/domestic-violence-workshop/2028-09-05/
LOCATION:Zoom
END:VEVENT
BEGIN:VEVENT
DTSTART;TZID=UTC:20280905T170000
DTEND;TZID=UTC:20280905T190000
DTSTAMP:20260422T165906
CREATED:20251125T233252Z
LAST-MODIFIED:20251125T233252Z
UID:10000948-1851786000-1851793200@minnesotaavemainstreet.org
SUMMARY:Nurturing Parenting Program – Virtual
DESCRIPTION:Proven strategies that encourage cultural identity\, teach effective communication between family members\, promote family values\, and build self-esteem in children. \nNPP is a 12-week parenting program that encourage cultural identity\, teaches effective communication between family members\, promotes family values\, and build self-esteem in children. \nFor all families with children age 0-8 \nDate: Every Tuesday at 5:00 – 7:00 PM (Virtual) \nFor more information\, contact Katina Rayford\, Parent Educator.\n• Phone: (202) 734 – 2874\n• Email: Krayford@erfsc.org \nJoin us on Zoom.\nMeeting ID: 860 815 2687
URL:https://minnesotaavemainstreet.org/event/nurturing-parenting-program-virtual/2028-09-05/
LOCATION:Zoom
ATTACH;FMTTYPE=image/jpeg:https://minnesotaavemainstreet.org/wp-content/uploads/2025/11/Simple-Chalkboard-Parent-Night-School-Announcement.jpg
END:VEVENT
BEGIN:VEVENT
DTSTART;TZID=UTC:20280906T130000
DTEND;TZID=UTC:20280906T140000
DTSTAMP:20260422T165906
CREATED:20251125T234201Z
LAST-MODIFIED:20251125T234201Z
UID:10001208-1851858000-1851861600@minnesotaavemainstreet.org
SUMMARY:Parent Empowerment Workshop Series
DESCRIPTION:Activities and presentations for providing information on important and relevant parenting topics: Domestic Violence and Substance Awareness. \nDate: Every Wednesday at 1:00 PM \nFor more information\, contact JaNeise Sturdivant.\n• Phone: (202) 430 – 2240\n• Email: jsturdivant@erfsc.org \nJoin us on Zoom.\nMeeting ID: 860 815 2687
URL:https://minnesotaavemainstreet.org/event/parent-empowerment-workshop-series/2028-09-06/
LOCATION:Zoom
END:VEVENT
BEGIN:VEVENT
DTSTART;TZID=UTC:20280906T170000
DTEND;TZID=UTC:20280906T190000
DTSTAMP:20260422T165906
CREATED:20251125T234316Z
LAST-MODIFIED:20251125T234316Z
UID:10001468-1851872400-1851879600@minnesotaavemainstreet.org
SUMMARY:Effective Black Parenting Training
DESCRIPTION:
URL:https://minnesotaavemainstreet.org/event/effective-black-parenting-training/2028-09-06/
LOCATION:Zoom
END:VEVENT
BEGIN:VEVENT
DTSTART;TZID=UTC:20280907T130000
DTEND;TZID=UTC:20280907T140000
DTSTAMP:20260422T165906
CREATED:20251125T234508Z
LAST-MODIFIED:20251125T234508Z
UID:10001728-1851944400-1851948000@minnesotaavemainstreet.org
SUMMARY:Anger\, Alcohol\, and Abuse Workshop
DESCRIPTION:Together\, we can end the abuse. \n“Silence hides violence” \nDate: Every Thursday at 1 PM \nFor more information\, contact JaNeise Sturdivant.\n• Phone: (202) 430 – 2240\n• Email: jsturdivant@erfsc.org \nJoin us on Zoom.\nMeeting ID: 860 815 2687
URL:https://minnesotaavemainstreet.org/event/anger-alcohol-and-abuse-workshop/2028-09-07/
LOCATION:Zoom
END:VEVENT
BEGIN:VEVENT
DTSTART;TZID=UTC:20280907T170000
DTEND;TZID=UTC:20280907T190000
DTSTAMP:20260422T165906
CREATED:20251125T234652Z
LAST-MODIFIED:20251125T234652Z
UID:10001988-1851958800-1851966000@minnesotaavemainstreet.org
SUMMARY:Parenting a Second Time Around (PASTA)
DESCRIPTION:PASTA – Parenting a Second Time Around. \nPASTA is a 8-week program that provides grandparents and other kinship caregivers with information\, skills\, and resources designed to enhance their ability to provide effective care for the young relatives they are parenting. \nDate: Every Thursday from 5:00 – 7:00 PM \nFor more information\, contact Katina Rayford\, Parent Educator.\n• Phone: (202) 734 – 2874\n• Email: Krayford@erfsc.org \nJoin us on Zoom.\nMeeting ID: 860 815 2687
URL:https://minnesotaavemainstreet.org/event/parenting-a-second-time-around-pasta/2028-09-07/
LOCATION:Zoom
END:VEVENT
BEGIN:VEVENT
DTSTART;TZID=UTC:20280912T130000
DTEND;TZID=UTC:20280912T140000
DTSTAMP:20260422T165906
CREATED:20251125T232620Z
LAST-MODIFIED:20251125T232703Z
UID:10000425-1852376400-1852380000@minnesotaavemainstreet.org
SUMMARY:Domestic Violence Workshop
DESCRIPTION:The training emphasizes victim safety\, victim empowerment\, abuser accountability\, and a comprehensive system’s response to domestic abuse. \nLove is not abuse. \nDate: Every Tuesday at 1:00 PM \nFor more information\, contact JaNeise Sturdivant.\n• Phone: (202) 430 – 2240\n• Email: jsturdivant@erfsc.org \nJoin us on Zoom.\nMeeting ID: 860 815 2687
URL:https://minnesotaavemainstreet.org/event/domestic-violence-workshop/2028-09-12/
LOCATION:Zoom
END:VEVENT
BEGIN:VEVENT
DTSTART;TZID=UTC:20280912T170000
DTEND;TZID=UTC:20280912T190000
DTSTAMP:20260422T165906
CREATED:20251125T233252Z
LAST-MODIFIED:20251125T233252Z
UID:10000949-1852390800-1852398000@minnesotaavemainstreet.org
SUMMARY:Nurturing Parenting Program – Virtual
DESCRIPTION:Proven strategies that encourage cultural identity\, teach effective communication between family members\, promote family values\, and build self-esteem in children. \nNPP is a 12-week parenting program that encourage cultural identity\, teaches effective communication between family members\, promotes family values\, and build self-esteem in children. \nFor all families with children age 0-8 \nDate: Every Tuesday at 5:00 – 7:00 PM (Virtual) \nFor more information\, contact Katina Rayford\, Parent Educator.\n• Phone: (202) 734 – 2874\n• Email: Krayford@erfsc.org \nJoin us on Zoom.\nMeeting ID: 860 815 2687
URL:https://minnesotaavemainstreet.org/event/nurturing-parenting-program-virtual/2028-09-12/
LOCATION:Zoom
ATTACH;FMTTYPE=image/jpeg:https://minnesotaavemainstreet.org/wp-content/uploads/2025/11/Simple-Chalkboard-Parent-Night-School-Announcement.jpg
END:VEVENT
BEGIN:VEVENT
DTSTART;TZID=UTC:20280913T130000
DTEND;TZID=UTC:20280913T140000
DTSTAMP:20260422T165906
CREATED:20251125T234201Z
LAST-MODIFIED:20251125T234201Z
UID:10001209-1852462800-1852466400@minnesotaavemainstreet.org
SUMMARY:Parent Empowerment Workshop Series
DESCRIPTION:Activities and presentations for providing information on important and relevant parenting topics: Domestic Violence and Substance Awareness. \nDate: Every Wednesday at 1:00 PM \nFor more information\, contact JaNeise Sturdivant.\n• Phone: (202) 430 – 2240\n• Email: jsturdivant@erfsc.org \nJoin us on Zoom.\nMeeting ID: 860 815 2687
URL:https://minnesotaavemainstreet.org/event/parent-empowerment-workshop-series/2028-09-13/
LOCATION:Zoom
END:VEVENT
END:VCALENDAR