BEGIN:VCALENDAR
VERSION:2.0
PRODID:-// - ECPv6.15.20//NONSGML v1.0//EN
CALSCALE:GREGORIAN
METHOD:PUBLISH
X-ORIGINAL-URL:https://minnesotaavemainstreet.org
X-WR-CALDESC:Events for 
REFRESH-INTERVAL;VALUE=DURATION:PT1H
X-Robots-Tag:noindex
X-PUBLISHED-TTL:PT1H
BEGIN:VTIMEZONE
TZID:UTC
BEGIN:STANDARD
TZOFFSETFROM:+0000
TZOFFSETTO:+0000
TZNAME:UTC
DTSTART:20270101T000000
END:STANDARD
END:VTIMEZONE
BEGIN:VEVENT
DTSTART;TZID=UTC:20280517T130000
DTEND;TZID=UTC:20280517T140000
DTSTAMP:20260422T082523
CREATED:20251125T234201Z
LAST-MODIFIED:20251125T234201Z
UID:10001192-1842181200-1842184800@minnesotaavemainstreet.org
SUMMARY:Parent Empowerment Workshop Series
DESCRIPTION:Activities and presentations for providing information on important and relevant parenting topics: Domestic Violence and Substance Awareness. \nDate: Every Wednesday at 1:00 PM \nFor more information\, contact JaNeise Sturdivant.\n• Phone: (202) 430 – 2240\n• Email: jsturdivant@erfsc.org \nJoin us on Zoom.\nMeeting ID: 860 815 2687
URL:https://minnesotaavemainstreet.org/event/parent-empowerment-workshop-series/2028-05-17/
LOCATION:Zoom
END:VEVENT
BEGIN:VEVENT
DTSTART;TZID=UTC:20280517T170000
DTEND;TZID=UTC:20280517T190000
DTSTAMP:20260422T082523
CREATED:20251125T234316Z
LAST-MODIFIED:20251125T234316Z
UID:10001452-1842195600-1842202800@minnesotaavemainstreet.org
SUMMARY:Effective Black Parenting Training
DESCRIPTION:
URL:https://minnesotaavemainstreet.org/event/effective-black-parenting-training/2028-05-17/
LOCATION:Zoom
END:VEVENT
BEGIN:VEVENT
DTSTART;TZID=UTC:20280518T130000
DTEND;TZID=UTC:20280518T140000
DTSTAMP:20260422T082523
CREATED:20251125T234508Z
LAST-MODIFIED:20251125T234508Z
UID:10001712-1842267600-1842271200@minnesotaavemainstreet.org
SUMMARY:Anger\, Alcohol\, and Abuse Workshop
DESCRIPTION:Together\, we can end the abuse. \n“Silence hides violence” \nDate: Every Thursday at 1 PM \nFor more information\, contact JaNeise Sturdivant.\n• Phone: (202) 430 – 2240\n• Email: jsturdivant@erfsc.org \nJoin us on Zoom.\nMeeting ID: 860 815 2687
URL:https://minnesotaavemainstreet.org/event/anger-alcohol-and-abuse-workshop/2028-05-18/
LOCATION:Zoom
END:VEVENT
BEGIN:VEVENT
DTSTART;TZID=UTC:20280518T170000
DTEND;TZID=UTC:20280518T190000
DTSTAMP:20260422T082523
CREATED:20251125T234652Z
LAST-MODIFIED:20251125T234652Z
UID:10001972-1842282000-1842289200@minnesotaavemainstreet.org
SUMMARY:Parenting a Second Time Around (PASTA)
DESCRIPTION:PASTA – Parenting a Second Time Around. \nPASTA is a 8-week program that provides grandparents and other kinship caregivers with information\, skills\, and resources designed to enhance their ability to provide effective care for the young relatives they are parenting. \nDate: Every Thursday from 5:00 – 7:00 PM \nFor more information\, contact Katina Rayford\, Parent Educator.\n• Phone: (202) 734 – 2874\n• Email: Krayford@erfsc.org \nJoin us on Zoom.\nMeeting ID: 860 815 2687
URL:https://minnesotaavemainstreet.org/event/parenting-a-second-time-around-pasta/2028-05-18/
LOCATION:Zoom
END:VEVENT
BEGIN:VEVENT
DTSTART;TZID=UTC:20280523T130000
DTEND;TZID=UTC:20280523T140000
DTSTAMP:20260422T082523
CREATED:20251125T232620Z
LAST-MODIFIED:20251125T232703Z
UID:10000409-1842699600-1842703200@minnesotaavemainstreet.org
SUMMARY:Domestic Violence Workshop
DESCRIPTION:The training emphasizes victim safety\, victim empowerment\, abuser accountability\, and a comprehensive system’s response to domestic abuse. \nLove is not abuse. \nDate: Every Tuesday at 1:00 PM \nFor more information\, contact JaNeise Sturdivant.\n• Phone: (202) 430 – 2240\n• Email: jsturdivant@erfsc.org \nJoin us on Zoom.\nMeeting ID: 860 815 2687
URL:https://minnesotaavemainstreet.org/event/domestic-violence-workshop/2028-05-23/
LOCATION:Zoom
END:VEVENT
BEGIN:VEVENT
DTSTART;TZID=UTC:20280523T170000
DTEND;TZID=UTC:20280523T190000
DTSTAMP:20260422T082523
CREATED:20251125T233252Z
LAST-MODIFIED:20251125T233252Z
UID:10000933-1842714000-1842721200@minnesotaavemainstreet.org
SUMMARY:Nurturing Parenting Program – Virtual
DESCRIPTION:Proven strategies that encourage cultural identity\, teach effective communication between family members\, promote family values\, and build self-esteem in children. \nNPP is a 12-week parenting program that encourage cultural identity\, teaches effective communication between family members\, promotes family values\, and build self-esteem in children. \nFor all families with children age 0-8 \nDate: Every Tuesday at 5:00 – 7:00 PM (Virtual) \nFor more information\, contact Katina Rayford\, Parent Educator.\n• Phone: (202) 734 – 2874\n• Email: Krayford@erfsc.org \nJoin us on Zoom.\nMeeting ID: 860 815 2687
URL:https://minnesotaavemainstreet.org/event/nurturing-parenting-program-virtual/2028-05-23/
LOCATION:Zoom
ATTACH;FMTTYPE=image/jpeg:https://minnesotaavemainstreet.org/wp-content/uploads/2025/11/Simple-Chalkboard-Parent-Night-School-Announcement.jpg
END:VEVENT
BEGIN:VEVENT
DTSTART;TZID=UTC:20280524T130000
DTEND;TZID=UTC:20280524T140000
DTSTAMP:20260422T082523
CREATED:20251125T234201Z
LAST-MODIFIED:20251125T234201Z
UID:10001193-1842786000-1842789600@minnesotaavemainstreet.org
SUMMARY:Parent Empowerment Workshop Series
DESCRIPTION:Activities and presentations for providing information on important and relevant parenting topics: Domestic Violence and Substance Awareness. \nDate: Every Wednesday at 1:00 PM \nFor more information\, contact JaNeise Sturdivant.\n• Phone: (202) 430 – 2240\n• Email: jsturdivant@erfsc.org \nJoin us on Zoom.\nMeeting ID: 860 815 2687
URL:https://minnesotaavemainstreet.org/event/parent-empowerment-workshop-series/2028-05-24/
LOCATION:Zoom
END:VEVENT
BEGIN:VEVENT
DTSTART;TZID=UTC:20280524T170000
DTEND;TZID=UTC:20280524T190000
DTSTAMP:20260422T082523
CREATED:20251125T234316Z
LAST-MODIFIED:20251125T234316Z
UID:10001453-1842800400-1842807600@minnesotaavemainstreet.org
SUMMARY:Effective Black Parenting Training
DESCRIPTION:
URL:https://minnesotaavemainstreet.org/event/effective-black-parenting-training/2028-05-24/
LOCATION:Zoom
END:VEVENT
BEGIN:VEVENT
DTSTART;TZID=UTC:20280525T130000
DTEND;TZID=UTC:20280525T140000
DTSTAMP:20260422T082523
CREATED:20251125T234508Z
LAST-MODIFIED:20251125T234508Z
UID:10001713-1842872400-1842876000@minnesotaavemainstreet.org
SUMMARY:Anger\, Alcohol\, and Abuse Workshop
DESCRIPTION:Together\, we can end the abuse. \n“Silence hides violence” \nDate: Every Thursday at 1 PM \nFor more information\, contact JaNeise Sturdivant.\n• Phone: (202) 430 – 2240\n• Email: jsturdivant@erfsc.org \nJoin us on Zoom.\nMeeting ID: 860 815 2687
URL:https://minnesotaavemainstreet.org/event/anger-alcohol-and-abuse-workshop/2028-05-25/
LOCATION:Zoom
END:VEVENT
BEGIN:VEVENT
DTSTART;TZID=UTC:20280525T170000
DTEND;TZID=UTC:20280525T190000
DTSTAMP:20260422T082523
CREATED:20251125T234652Z
LAST-MODIFIED:20251125T234652Z
UID:10001973-1842886800-1842894000@minnesotaavemainstreet.org
SUMMARY:Parenting a Second Time Around (PASTA)
DESCRIPTION:PASTA – Parenting a Second Time Around. \nPASTA is a 8-week program that provides grandparents and other kinship caregivers with information\, skills\, and resources designed to enhance their ability to provide effective care for the young relatives they are parenting. \nDate: Every Thursday from 5:00 – 7:00 PM \nFor more information\, contact Katina Rayford\, Parent Educator.\n• Phone: (202) 734 – 2874\n• Email: Krayford@erfsc.org \nJoin us on Zoom.\nMeeting ID: 860 815 2687
URL:https://minnesotaavemainstreet.org/event/parenting-a-second-time-around-pasta/2028-05-25/
LOCATION:Zoom
END:VEVENT
BEGIN:VEVENT
DTSTART;TZID=UTC:20280530T130000
DTEND;TZID=UTC:20280530T140000
DTSTAMP:20260422T082523
CREATED:20251125T232620Z
LAST-MODIFIED:20251125T232703Z
UID:10000410-1843304400-1843308000@minnesotaavemainstreet.org
SUMMARY:Domestic Violence Workshop
DESCRIPTION:The training emphasizes victim safety\, victim empowerment\, abuser accountability\, and a comprehensive system’s response to domestic abuse. \nLove is not abuse. \nDate: Every Tuesday at 1:00 PM \nFor more information\, contact JaNeise Sturdivant.\n• Phone: (202) 430 – 2240\n• Email: jsturdivant@erfsc.org \nJoin us on Zoom.\nMeeting ID: 860 815 2687
URL:https://minnesotaavemainstreet.org/event/domestic-violence-workshop/2028-05-30/
LOCATION:Zoom
END:VEVENT
BEGIN:VEVENT
DTSTART;TZID=UTC:20280530T170000
DTEND;TZID=UTC:20280530T190000
DTSTAMP:20260422T082523
CREATED:20251125T233252Z
LAST-MODIFIED:20251125T233252Z
UID:10000934-1843318800-1843326000@minnesotaavemainstreet.org
SUMMARY:Nurturing Parenting Program – Virtual
DESCRIPTION:Proven strategies that encourage cultural identity\, teach effective communication between family members\, promote family values\, and build self-esteem in children. \nNPP is a 12-week parenting program that encourage cultural identity\, teaches effective communication between family members\, promotes family values\, and build self-esteem in children. \nFor all families with children age 0-8 \nDate: Every Tuesday at 5:00 – 7:00 PM (Virtual) \nFor more information\, contact Katina Rayford\, Parent Educator.\n• Phone: (202) 734 – 2874\n• Email: Krayford@erfsc.org \nJoin us on Zoom.\nMeeting ID: 860 815 2687
URL:https://minnesotaavemainstreet.org/event/nurturing-parenting-program-virtual/2028-05-30/
LOCATION:Zoom
ATTACH;FMTTYPE=image/jpeg:https://minnesotaavemainstreet.org/wp-content/uploads/2025/11/Simple-Chalkboard-Parent-Night-School-Announcement.jpg
END:VEVENT
BEGIN:VEVENT
DTSTART;TZID=UTC:20280531T130000
DTEND;TZID=UTC:20280531T140000
DTSTAMP:20260422T082523
CREATED:20251125T234201Z
LAST-MODIFIED:20251125T234201Z
UID:10001194-1843390800-1843394400@minnesotaavemainstreet.org
SUMMARY:Parent Empowerment Workshop Series
DESCRIPTION:Activities and presentations for providing information on important and relevant parenting topics: Domestic Violence and Substance Awareness. \nDate: Every Wednesday at 1:00 PM \nFor more information\, contact JaNeise Sturdivant.\n• Phone: (202) 430 – 2240\n• Email: jsturdivant@erfsc.org \nJoin us on Zoom.\nMeeting ID: 860 815 2687
URL:https://minnesotaavemainstreet.org/event/parent-empowerment-workshop-series/2028-05-31/
LOCATION:Zoom
END:VEVENT
BEGIN:VEVENT
DTSTART;TZID=UTC:20280531T170000
DTEND;TZID=UTC:20280531T190000
DTSTAMP:20260422T082523
CREATED:20251125T234316Z
LAST-MODIFIED:20251125T234316Z
UID:10001454-1843405200-1843412400@minnesotaavemainstreet.org
SUMMARY:Effective Black Parenting Training
DESCRIPTION:
URL:https://minnesotaavemainstreet.org/event/effective-black-parenting-training/2028-05-31/
LOCATION:Zoom
END:VEVENT
BEGIN:VEVENT
DTSTART;TZID=UTC:20280601T130000
DTEND;TZID=UTC:20280601T140000
DTSTAMP:20260422T082523
CREATED:20251125T234508Z
LAST-MODIFIED:20251125T234508Z
UID:10001714-1843477200-1843480800@minnesotaavemainstreet.org
SUMMARY:Anger\, Alcohol\, and Abuse Workshop
DESCRIPTION:Together\, we can end the abuse. \n“Silence hides violence” \nDate: Every Thursday at 1 PM \nFor more information\, contact JaNeise Sturdivant.\n• Phone: (202) 430 – 2240\n• Email: jsturdivant@erfsc.org \nJoin us on Zoom.\nMeeting ID: 860 815 2687
URL:https://minnesotaavemainstreet.org/event/anger-alcohol-and-abuse-workshop/2028-06-01/
LOCATION:Zoom
END:VEVENT
BEGIN:VEVENT
DTSTART;TZID=UTC:20280601T170000
DTEND;TZID=UTC:20280601T190000
DTSTAMP:20260422T082523
CREATED:20251125T234652Z
LAST-MODIFIED:20251125T234652Z
UID:10001974-1843491600-1843498800@minnesotaavemainstreet.org
SUMMARY:Parenting a Second Time Around (PASTA)
DESCRIPTION:PASTA – Parenting a Second Time Around. \nPASTA is a 8-week program that provides grandparents and other kinship caregivers with information\, skills\, and resources designed to enhance their ability to provide effective care for the young relatives they are parenting. \nDate: Every Thursday from 5:00 – 7:00 PM \nFor more information\, contact Katina Rayford\, Parent Educator.\n• Phone: (202) 734 – 2874\n• Email: Krayford@erfsc.org \nJoin us on Zoom.\nMeeting ID: 860 815 2687
URL:https://minnesotaavemainstreet.org/event/parenting-a-second-time-around-pasta/2028-06-01/
LOCATION:Zoom
END:VEVENT
BEGIN:VEVENT
DTSTART;TZID=UTC:20280606T130000
DTEND;TZID=UTC:20280606T140000
DTSTAMP:20260422T082523
CREATED:20251125T232620Z
LAST-MODIFIED:20251125T232703Z
UID:10000411-1843909200-1843912800@minnesotaavemainstreet.org
SUMMARY:Domestic Violence Workshop
DESCRIPTION:The training emphasizes victim safety\, victim empowerment\, abuser accountability\, and a comprehensive system’s response to domestic abuse. \nLove is not abuse. \nDate: Every Tuesday at 1:00 PM \nFor more information\, contact JaNeise Sturdivant.\n• Phone: (202) 430 – 2240\n• Email: jsturdivant@erfsc.org \nJoin us on Zoom.\nMeeting ID: 860 815 2687
URL:https://minnesotaavemainstreet.org/event/domestic-violence-workshop/2028-06-06/
LOCATION:Zoom
END:VEVENT
BEGIN:VEVENT
DTSTART;TZID=UTC:20280606T170000
DTEND;TZID=UTC:20280606T190000
DTSTAMP:20260422T082523
CREATED:20251125T233252Z
LAST-MODIFIED:20251125T233252Z
UID:10000935-1843923600-1843930800@minnesotaavemainstreet.org
SUMMARY:Nurturing Parenting Program – Virtual
DESCRIPTION:Proven strategies that encourage cultural identity\, teach effective communication between family members\, promote family values\, and build self-esteem in children. \nNPP is a 12-week parenting program that encourage cultural identity\, teaches effective communication between family members\, promotes family values\, and build self-esteem in children. \nFor all families with children age 0-8 \nDate: Every Tuesday at 5:00 – 7:00 PM (Virtual) \nFor more information\, contact Katina Rayford\, Parent Educator.\n• Phone: (202) 734 – 2874\n• Email: Krayford@erfsc.org \nJoin us on Zoom.\nMeeting ID: 860 815 2687
URL:https://minnesotaavemainstreet.org/event/nurturing-parenting-program-virtual/2028-06-06/
LOCATION:Zoom
ATTACH;FMTTYPE=image/jpeg:https://minnesotaavemainstreet.org/wp-content/uploads/2025/11/Simple-Chalkboard-Parent-Night-School-Announcement.jpg
END:VEVENT
BEGIN:VEVENT
DTSTART;TZID=UTC:20280607T130000
DTEND;TZID=UTC:20280607T140000
DTSTAMP:20260422T082523
CREATED:20251125T234201Z
LAST-MODIFIED:20251125T234201Z
UID:10001195-1843995600-1843999200@minnesotaavemainstreet.org
SUMMARY:Parent Empowerment Workshop Series
DESCRIPTION:Activities and presentations for providing information on important and relevant parenting topics: Domestic Violence and Substance Awareness. \nDate: Every Wednesday at 1:00 PM \nFor more information\, contact JaNeise Sturdivant.\n• Phone: (202) 430 – 2240\n• Email: jsturdivant@erfsc.org \nJoin us on Zoom.\nMeeting ID: 860 815 2687
URL:https://minnesotaavemainstreet.org/event/parent-empowerment-workshop-series/2028-06-07/
LOCATION:Zoom
END:VEVENT
BEGIN:VEVENT
DTSTART;TZID=UTC:20280607T170000
DTEND;TZID=UTC:20280607T190000
DTSTAMP:20260422T082523
CREATED:20251125T234316Z
LAST-MODIFIED:20251125T234316Z
UID:10001455-1844010000-1844017200@minnesotaavemainstreet.org
SUMMARY:Effective Black Parenting Training
DESCRIPTION:
URL:https://minnesotaavemainstreet.org/event/effective-black-parenting-training/2028-06-07/
LOCATION:Zoom
END:VEVENT
BEGIN:VEVENT
DTSTART;TZID=UTC:20280608T130000
DTEND;TZID=UTC:20280608T140000
DTSTAMP:20260422T082523
CREATED:20251125T234508Z
LAST-MODIFIED:20251125T234508Z
UID:10001715-1844082000-1844085600@minnesotaavemainstreet.org
SUMMARY:Anger\, Alcohol\, and Abuse Workshop
DESCRIPTION:Together\, we can end the abuse. \n“Silence hides violence” \nDate: Every Thursday at 1 PM \nFor more information\, contact JaNeise Sturdivant.\n• Phone: (202) 430 – 2240\n• Email: jsturdivant@erfsc.org \nJoin us on Zoom.\nMeeting ID: 860 815 2687
URL:https://minnesotaavemainstreet.org/event/anger-alcohol-and-abuse-workshop/2028-06-08/
LOCATION:Zoom
END:VEVENT
BEGIN:VEVENT
DTSTART;TZID=UTC:20280608T170000
DTEND;TZID=UTC:20280608T190000
DTSTAMP:20260422T082523
CREATED:20251125T234652Z
LAST-MODIFIED:20251125T234652Z
UID:10001975-1844096400-1844103600@minnesotaavemainstreet.org
SUMMARY:Parenting a Second Time Around (PASTA)
DESCRIPTION:PASTA – Parenting a Second Time Around. \nPASTA is a 8-week program that provides grandparents and other kinship caregivers with information\, skills\, and resources designed to enhance their ability to provide effective care for the young relatives they are parenting. \nDate: Every Thursday from 5:00 – 7:00 PM \nFor more information\, contact Katina Rayford\, Parent Educator.\n• Phone: (202) 734 – 2874\n• Email: Krayford@erfsc.org \nJoin us on Zoom.\nMeeting ID: 860 815 2687
URL:https://minnesotaavemainstreet.org/event/parenting-a-second-time-around-pasta/2028-06-08/
LOCATION:Zoom
END:VEVENT
BEGIN:VEVENT
DTSTART;TZID=UTC:20280613T130000
DTEND;TZID=UTC:20280613T140000
DTSTAMP:20260422T082523
CREATED:20251125T232620Z
LAST-MODIFIED:20251125T232703Z
UID:10000412-1844514000-1844517600@minnesotaavemainstreet.org
SUMMARY:Domestic Violence Workshop
DESCRIPTION:The training emphasizes victim safety\, victim empowerment\, abuser accountability\, and a comprehensive system’s response to domestic abuse. \nLove is not abuse. \nDate: Every Tuesday at 1:00 PM \nFor more information\, contact JaNeise Sturdivant.\n• Phone: (202) 430 – 2240\n• Email: jsturdivant@erfsc.org \nJoin us on Zoom.\nMeeting ID: 860 815 2687
URL:https://minnesotaavemainstreet.org/event/domestic-violence-workshop/2028-06-13/
LOCATION:Zoom
END:VEVENT
BEGIN:VEVENT
DTSTART;TZID=UTC:20280613T170000
DTEND;TZID=UTC:20280613T190000
DTSTAMP:20260422T082523
CREATED:20251125T233252Z
LAST-MODIFIED:20251125T233252Z
UID:10000936-1844528400-1844535600@minnesotaavemainstreet.org
SUMMARY:Nurturing Parenting Program – Virtual
DESCRIPTION:Proven strategies that encourage cultural identity\, teach effective communication between family members\, promote family values\, and build self-esteem in children. \nNPP is a 12-week parenting program that encourage cultural identity\, teaches effective communication between family members\, promotes family values\, and build self-esteem in children. \nFor all families with children age 0-8 \nDate: Every Tuesday at 5:00 – 7:00 PM (Virtual) \nFor more information\, contact Katina Rayford\, Parent Educator.\n• Phone: (202) 734 – 2874\n• Email: Krayford@erfsc.org \nJoin us on Zoom.\nMeeting ID: 860 815 2687
URL:https://minnesotaavemainstreet.org/event/nurturing-parenting-program-virtual/2028-06-13/
LOCATION:Zoom
ATTACH;FMTTYPE=image/jpeg:https://minnesotaavemainstreet.org/wp-content/uploads/2025/11/Simple-Chalkboard-Parent-Night-School-Announcement.jpg
END:VEVENT
BEGIN:VEVENT
DTSTART;TZID=UTC:20280614T130000
DTEND;TZID=UTC:20280614T140000
DTSTAMP:20260422T082523
CREATED:20251125T234201Z
LAST-MODIFIED:20251125T234201Z
UID:10001196-1844600400-1844604000@minnesotaavemainstreet.org
SUMMARY:Parent Empowerment Workshop Series
DESCRIPTION:Activities and presentations for providing information on important and relevant parenting topics: Domestic Violence and Substance Awareness. \nDate: Every Wednesday at 1:00 PM \nFor more information\, contact JaNeise Sturdivant.\n• Phone: (202) 430 – 2240\n• Email: jsturdivant@erfsc.org \nJoin us on Zoom.\nMeeting ID: 860 815 2687
URL:https://minnesotaavemainstreet.org/event/parent-empowerment-workshop-series/2028-06-14/
LOCATION:Zoom
END:VEVENT
BEGIN:VEVENT
DTSTART;TZID=UTC:20280614T170000
DTEND;TZID=UTC:20280614T190000
DTSTAMP:20260422T082523
CREATED:20251125T234316Z
LAST-MODIFIED:20251125T234316Z
UID:10001456-1844614800-1844622000@minnesotaavemainstreet.org
SUMMARY:Effective Black Parenting Training
DESCRIPTION:
URL:https://minnesotaavemainstreet.org/event/effective-black-parenting-training/2028-06-14/
LOCATION:Zoom
END:VEVENT
BEGIN:VEVENT
DTSTART;TZID=UTC:20280615T130000
DTEND;TZID=UTC:20280615T140000
DTSTAMP:20260422T082523
CREATED:20251125T234508Z
LAST-MODIFIED:20251125T234508Z
UID:10001716-1844686800-1844690400@minnesotaavemainstreet.org
SUMMARY:Anger\, Alcohol\, and Abuse Workshop
DESCRIPTION:Together\, we can end the abuse. \n“Silence hides violence” \nDate: Every Thursday at 1 PM \nFor more information\, contact JaNeise Sturdivant.\n• Phone: (202) 430 – 2240\n• Email: jsturdivant@erfsc.org \nJoin us on Zoom.\nMeeting ID: 860 815 2687
URL:https://minnesotaavemainstreet.org/event/anger-alcohol-and-abuse-workshop/2028-06-15/
LOCATION:Zoom
END:VEVENT
BEGIN:VEVENT
DTSTART;TZID=UTC:20280615T170000
DTEND;TZID=UTC:20280615T190000
DTSTAMP:20260422T082523
CREATED:20251125T234652Z
LAST-MODIFIED:20251125T234652Z
UID:10001976-1844701200-1844708400@minnesotaavemainstreet.org
SUMMARY:Parenting a Second Time Around (PASTA)
DESCRIPTION:PASTA – Parenting a Second Time Around. \nPASTA is a 8-week program that provides grandparents and other kinship caregivers with information\, skills\, and resources designed to enhance their ability to provide effective care for the young relatives they are parenting. \nDate: Every Thursday from 5:00 – 7:00 PM \nFor more information\, contact Katina Rayford\, Parent Educator.\n• Phone: (202) 734 – 2874\n• Email: Krayford@erfsc.org \nJoin us on Zoom.\nMeeting ID: 860 815 2687
URL:https://minnesotaavemainstreet.org/event/parenting-a-second-time-around-pasta/2028-06-15/
LOCATION:Zoom
END:VEVENT
BEGIN:VEVENT
DTSTART;TZID=UTC:20280620T130000
DTEND;TZID=UTC:20280620T140000
DTSTAMP:20260422T082523
CREATED:20251125T232620Z
LAST-MODIFIED:20251125T232703Z
UID:10000413-1845118800-1845122400@minnesotaavemainstreet.org
SUMMARY:Domestic Violence Workshop
DESCRIPTION:The training emphasizes victim safety\, victim empowerment\, abuser accountability\, and a comprehensive system’s response to domestic abuse. \nLove is not abuse. \nDate: Every Tuesday at 1:00 PM \nFor more information\, contact JaNeise Sturdivant.\n• Phone: (202) 430 – 2240\n• Email: jsturdivant@erfsc.org \nJoin us on Zoom.\nMeeting ID: 860 815 2687
URL:https://minnesotaavemainstreet.org/event/domestic-violence-workshop/2028-06-20/
LOCATION:Zoom
END:VEVENT
BEGIN:VEVENT
DTSTART;TZID=UTC:20280620T170000
DTEND;TZID=UTC:20280620T190000
DTSTAMP:20260422T082523
CREATED:20251125T233252Z
LAST-MODIFIED:20251125T233252Z
UID:10000937-1845133200-1845140400@minnesotaavemainstreet.org
SUMMARY:Nurturing Parenting Program – Virtual
DESCRIPTION:Proven strategies that encourage cultural identity\, teach effective communication between family members\, promote family values\, and build self-esteem in children. \nNPP is a 12-week parenting program that encourage cultural identity\, teaches effective communication between family members\, promotes family values\, and build self-esteem in children. \nFor all families with children age 0-8 \nDate: Every Tuesday at 5:00 – 7:00 PM (Virtual) \nFor more information\, contact Katina Rayford\, Parent Educator.\n• Phone: (202) 734 – 2874\n• Email: Krayford@erfsc.org \nJoin us on Zoom.\nMeeting ID: 860 815 2687
URL:https://minnesotaavemainstreet.org/event/nurturing-parenting-program-virtual/2028-06-20/
LOCATION:Zoom
ATTACH;FMTTYPE=image/jpeg:https://minnesotaavemainstreet.org/wp-content/uploads/2025/11/Simple-Chalkboard-Parent-Night-School-Announcement.jpg
END:VEVENT
END:VCALENDAR