BEGIN:VCALENDAR
VERSION:2.0
PRODID:-// - ECPv6.15.20//NONSGML v1.0//EN
CALSCALE:GREGORIAN
METHOD:PUBLISH
X-ORIGINAL-URL:https://minnesotaavemainstreet.org
X-WR-CALDESC:Events for 
REFRESH-INTERVAL;VALUE=DURATION:PT1H
X-Robots-Tag:noindex
X-PUBLISHED-TTL:PT1H
BEGIN:VTIMEZONE
TZID:UTC
BEGIN:STANDARD
TZOFFSETFROM:+0000
TZOFFSETTO:+0000
TZNAME:UTC
DTSTART:20240101T000000
END:STANDARD
END:VTIMEZONE
BEGIN:VEVENT
DTSTART;TZID=UTC:20251210T140000
DTEND;TZID=UTC:20251210T150000
DTSTAMP:20260422T162737
CREATED:20251204T074437Z
LAST-MODIFIED:20251205T155930Z
UID:10002112-1765375200-1765378800@minnesotaavemainstreet.org
SUMMARY:Great Streets Info Session
DESCRIPTION:To learn more about DMPED’s  grant programs – Great Streets Retail\, and Emerging Retail Initiative. Please sign up for the information session below. \nRegister Here: https://bit.ly/48fEDEk
URL:https://minnesotaavemainstreet.org/event/great-streets-info-session/
LOCATION:H Street Main Street\, 1207 H Street NE\, Washington\, DC\, 20002
ATTACH;FMTTYPE=image/png:https://minnesotaavemainstreet.org/wp-content/uploads/2025/12/great-1.png
END:VEVENT
END:VCALENDAR