BEGIN:VCALENDAR
VERSION:2.0
PRODID:-// - ECPv6.15.20//NONSGML v1.0//EN
CALSCALE:GREGORIAN
METHOD:PUBLISH
X-ORIGINAL-URL:https://minnesotaavemainstreet.org
X-WR-CALDESC:Events for 
REFRESH-INTERVAL;VALUE=DURATION:PT1H
X-Robots-Tag:noindex
X-PUBLISHED-TTL:PT1H
BEGIN:VTIMEZONE
TZID:UTC
BEGIN:STANDARD
TZOFFSETFROM:+0000
TZOFFSETTO:+0000
TZNAME:UTC
DTSTART:20250101T000000
END:STANDARD
END:VTIMEZONE
BEGIN:VEVENT
DTSTART;TZID=UTC:20260423T110000
DTEND;TZID=UTC:20260423T140000
DTSTAMP:20260420T032320
CREATED:20260419T154404Z
LAST-MODIFIED:20260419T211309Z
UID:10002134-1776942000-1776952800@minnesotaavemainstreet.org
SUMMARY:Ward 7 Community Clean Up
DESCRIPTION:A Ward 7 clean up to celebrate Earth Day and kick off our official Ward 7 clean up campaign! \n\n\n\n\nJoin us this Earth Day as we come together to clean up our ward and show pride in our neighborhoods. \nCleaning supplies will be provided! Meet us at the designated meeting point to pick up supplies and join a group\, or simply grab what you need and head out to clean up your own block or neighborhood if you prefer. \nEvery bag of trash collected helps make our community cleaner\, greener\, and stronger. \nAfter the clean-up\, join us and attendees at MHCDO for a reception. Food and drink will be provided. \nRegister Here: https://bit.ly/4twWUF6 \n 
URL:https://minnesotaavemainstreet.org/event/ward-7-community-clean-up/
LOCATION:McDonald’s\, 3901 Minnesota Avenue NE\, Washington\, DC\, 20019
ATTACH;FMTTYPE=image/png:https://minnesotaavemainstreet.org/wp-content/uploads/2026/04/Ward-7-Community-Clean-Up.png
ORGANIZER;CN="The Office of Ward 7 Councilmember Wendell Felder":MAILTO:ward7@dccouncil.gov
END:VEVENT
BEGIN:VEVENT
DTSTART;TZID=UTC:20260513T180000
DTEND;TZID=UTC:20260513T200000
DTSTAMP:20260420T032320
CREATED:20260419T211806Z
LAST-MODIFIED:20260419T211956Z
UID:10002135-1778695200-1778702400@minnesotaavemainstreet.org
SUMMARY:Ward 7 Education Town Hall
DESCRIPTION:Join Councilmember Felder’s office Education Town tall to discuss education priorities\, challenges\, and solutions for our community! \n\n\n\n\nIn partnership with the State Board of Education\, the Ward 7 Education Council\, and the Center for Strong Public Schools to host an education town hall. There will be presentations about the current state of education and what work is happening on the ground right now\, as well as a panel of student voices. There will also be a portion of the night dedicated to community discussion and brainstorming of what education should look like in Ward 7.
URL:https://minnesotaavemainstreet.org/event/ward-7-education-town-hall/
LOCATION:Maya Angelou Public Charter School\, 5600 East Capitol Street Northeast\, Washington\, DC\, 20019
ATTACH;FMTTYPE=image/webp:https://minnesotaavemainstreet.org/wp-content/uploads/2026/04/image-2.webp
ORGANIZER;CN="The Office of Ward 7 Councilmember Wendell Felder":MAILTO:ward7@dccouncil.gov
END:VEVENT
END:VCALENDAR